BEGIN:VCALENDAR
PRODID:http://www.kufer.de/kuferweb / DE
VERSION:2.0
METHOD:PUBLISH
CALSCALE:GREGORIAN
X-WR-TIMEZONE:Europe/Berlin
BEGIN:VTIMEZONE
TZID:Europe/Berlin
X-LIC-LOCATION:Europe/Berlin
BEGIN:DAYLIGHT
TZOFFSETFROM:+0100
TZOFFSETTO:+0200
TZNAME:CEST
DTSTART;TZID=Europe/Berlin:19700329T020000
RRULE:FREQ=YEARLY;INTERVAL=1;BYDAY=-1SU;BYMONTH=3
END:DAYLIGHT
BEGIN:STANDARD
TZOFFSETFROM:+0200
TZOFFSETTO:+0100
TZNAME:CET
DTSTART;TZID=Europe/Berlin:19701025T030000
RRULE:FREQ=YEARLY;INTERVAL=1;BYDAY=-1SU;BYMONTH=10
END:STANDARD
END:VTIMEZONE
BEGIN:VEVENT
DTSTAMP:20260421T225950
DTSTART;TZID=Europe/Berlin:20270512T090000
DTEND;TZID=Europe/Berlin:20270512T163000
UID:2705-004E-20270512T090000@DIAK. AKADHANNOVER
SUMMARY:Webinar: Das fünf Phasen Modell zum Umgang mit herausforderndem Verhalten bei Menschen mit Autismus-Spektrum-Störung (ASS) (2705-004E) 
LOCATION:Webinar, , 
END:VEVENT
BEGIN:VEVENT
DTSTAMP:20260421T225950
DTSTART;TZID=Europe/Berlin:20270513T090000
DTEND;TZID=Europe/Berlin:20270513T163000
UID:2705-004E-20270513T090000@DIAK. AKADHANNOVER
SUMMARY:Webinar: Das fünf Phasen Modell zum Umgang mit herausforderndem Verhalten bei Menschen mit Autismus-Spektrum-Störung (ASS) (2705-004E) 
LOCATION:Webinar, , 
END:VEVENT
BEGIN:VEVENT
DTSTAMP:20260421T225950
DTSTART;TZID=Europe/Berlin:20270514T090000
DTEND;TZID=Europe/Berlin:20270514T163000
UID:2705-004E-20270514T090000@DIAK. AKADHANNOVER
SUMMARY:Webinar: Das fünf Phasen Modell zum Umgang mit herausforderndem Verhalten bei Menschen mit Autismus-Spektrum-Störung (ASS) (2705-004E) 
LOCATION:Webinar, , 
END:VEVENT
END:VCALENDAR