BEGIN:VCALENDAR
PRODID:http://www.kufer.de/kuferweb / DE
VERSION:2.0
METHOD:PUBLISH
CALSCALE:GREGORIAN
X-WR-TIMEZONE:Europe/Berlin
BEGIN:VTIMEZONE
TZID:Europe/Berlin
X-LIC-LOCATION:Europe/Berlin
BEGIN:DAYLIGHT
TZOFFSETFROM:+0100
TZOFFSETTO:+0200
TZNAME:CEST
DTSTART;TZID=Europe/Berlin:19700329T020000
RRULE:FREQ=YEARLY;INTERVAL=1;BYDAY=-1SU;BYMONTH=3
END:DAYLIGHT
BEGIN:STANDARD
TZOFFSETFROM:+0200
TZOFFSETTO:+0100
TZNAME:CET
DTSTART;TZID=Europe/Berlin:19701025T030000
RRULE:FREQ=YEARLY;INTERVAL=1;BYDAY=-1SU;BYMONTH=10
END:STANDARD
END:VTIMEZONE
BEGIN:VEVENT
DTSTAMP:20260421T181715
DTSTART;TZID=Europe/Berlin:20270118T080000
DTEND;TZID=Europe/Berlin:20270118T150000
UID:2701-004W-20270118T080000@DIAK. AKADHANNOVER
SUMMARY:Weiterbildung Verantwortliche Pflegefachkraft nach § 71 SGB XI (2701-004W) 
LOCATION:Raum 16; EG; DIAKOVERE Akademie Gebäude Anna-von-Borries-Str. 7, Anna-von-Borries-Str. 1-7, 30625 Hannover
END:VEVENT
BEGIN:VEVENT
DTSTAMP:20260421T181715
DTSTART;TZID=Europe/Berlin:20270119T080000
DTEND;TZID=Europe/Berlin:20270119T150000
UID:2701-004W-20270119T080000@DIAK. AKADHANNOVER
SUMMARY:Weiterbildung Verantwortliche Pflegefachkraft nach § 71 SGB XI (2701-004W) 
LOCATION:Raum 16; EG; DIAKOVERE Akademie Gebäude Anna-von-Borries-Str. 7, Anna-von-Borries-Str. 1-7, 30625 Hannover
END:VEVENT
BEGIN:VEVENT
DTSTAMP:20260421T181715
DTSTART;TZID=Europe/Berlin:20270120T080000
DTEND;TZID=Europe/Berlin:20270120T150000
UID:2701-004W-20270120T080000@DIAK. AKADHANNOVER
SUMMARY:Weiterbildung Verantwortliche Pflegefachkraft nach § 71 SGB XI (2701-004W) 
LOCATION:Raum 16; EG; DIAKOVERE Akademie Gebäude Anna-von-Borries-Str. 7, Anna-von-Borries-Str. 1-7, 30625 Hannover
END:VEVENT
BEGIN:VEVENT
DTSTAMP:20260421T181715
DTSTART;TZID=Europe/Berlin:20270121T080000
DTEND;TZID=Europe/Berlin:20270121T150000
UID:2701-004W-20270121T080000@DIAK. AKADHANNOVER
SUMMARY:Weiterbildung Verantwortliche Pflegefachkraft nach § 71 SGB XI (2701-004W) 
LOCATION:Raum 16; EG; DIAKOVERE Akademie Gebäude Anna-von-Borries-Str. 7, Anna-von-Borries-Str. 1-7, 30625 Hannover
END:VEVENT
BEGIN:VEVENT
DTSTAMP:20260421T181715
DTSTART;TZID=Europe/Berlin:20270122T080000
DTEND;TZID=Europe/Berlin:20270122T150000
UID:2701-004W-20270122T080000@DIAK. AKADHANNOVER
SUMMARY:Weiterbildung Verantwortliche Pflegefachkraft nach § 71 SGB XI (2701-004W) 
LOCATION:Raum 16; EG; DIAKOVERE Akademie Gebäude Anna-von-Borries-Str. 7, Anna-von-Borries-Str. 1-7, 30625 Hannover
END:VEVENT
BEGIN:VEVENT
DTSTAMP:20260421T181715
DTSTART;TZID=Europe/Berlin:20270215T080000
DTEND;TZID=Europe/Berlin:20270215T150000
UID:2701-004W-20270215T080000@DIAK. AKADHANNOVER
SUMMARY:Weiterbildung Verantwortliche Pflegefachkraft nach § 71 SGB XI (2701-004W) 
LOCATION:Raum 16; EG; DIAKOVERE Akademie Gebäude Anna-von-Borries-Str. 7, Anna-von-Borries-Str. 1-7, 30625 Hannover
END:VEVENT
BEGIN:VEVENT
DTSTAMP:20260421T181715
DTSTART;TZID=Europe/Berlin:20270216T080000
DTEND;TZID=Europe/Berlin:20270216T150000
UID:2701-004W-20270216T080000@DIAK. AKADHANNOVER
SUMMARY:Weiterbildung Verantwortliche Pflegefachkraft nach § 71 SGB XI (2701-004W) 
LOCATION:Raum 16; EG; DIAKOVERE Akademie Gebäude Anna-von-Borries-Str. 7, Anna-von-Borries-Str. 1-7, 30625 Hannover
END:VEVENT
BEGIN:VEVENT
DTSTAMP:20260421T181715
DTSTART;TZID=Europe/Berlin:20270217T080000
DTEND;TZID=Europe/Berlin:20270217T150000
UID:2701-004W-20270217T080000@DIAK. AKADHANNOVER
SUMMARY:Weiterbildung Verantwortliche Pflegefachkraft nach § 71 SGB XI (2701-004W) 
LOCATION:Raum 16; EG; DIAKOVERE Akademie Gebäude Anna-von-Borries-Str. 7, Anna-von-Borries-Str. 1-7, 30625 Hannover
END:VEVENT
BEGIN:VEVENT
DTSTAMP:20260421T181715
DTSTART;TZID=Europe/Berlin:20270218T080000
DTEND;TZID=Europe/Berlin:20270218T150000
UID:2701-004W-20270218T080000@DIAK. AKADHANNOVER
SUMMARY:Weiterbildung Verantwortliche Pflegefachkraft nach § 71 SGB XI (2701-004W) 
LOCATION:Raum 16; EG; DIAKOVERE Akademie Gebäude Anna-von-Borries-Str. 7, Anna-von-Borries-Str. 1-7, 30625 Hannover
END:VEVENT
BEGIN:VEVENT
DTSTAMP:20260421T181715
DTSTART;TZID=Europe/Berlin:20270219T080000
DTEND;TZID=Europe/Berlin:20270219T150000
UID:2701-004W-20270219T080000@DIAK. AKADHANNOVER
SUMMARY:Weiterbildung Verantwortliche Pflegefachkraft nach § 71 SGB XI (2701-004W) 
LOCATION:Raum 16; EG; DIAKOVERE Akademie Gebäude Anna-von-Borries-Str. 7, Anna-von-Borries-Str. 1-7, 30625 Hannover
END:VEVENT
BEGIN:VEVENT
DTSTAMP:20260421T181715
DTSTART;TZID=Europe/Berlin:20270315T080000
DTEND;TZID=Europe/Berlin:20270315T150000
UID:2701-004W-20270315T080000@DIAK. AKADHANNOVER
SUMMARY:Weiterbildung Verantwortliche Pflegefachkraft nach § 71 SGB XI (2701-004W) 
LOCATION:Raum 16; EG; DIAKOVERE Akademie Gebäude Anna-von-Borries-Str. 7, Anna-von-Borries-Str. 1-7, 30625 Hannover
END:VEVENT
BEGIN:VEVENT
DTSTAMP:20260421T181715
DTSTART;TZID=Europe/Berlin:20270316T080000
DTEND;TZID=Europe/Berlin:20270316T150000
UID:2701-004W-20270316T080000@DIAK. AKADHANNOVER
SUMMARY:Weiterbildung Verantwortliche Pflegefachkraft nach § 71 SGB XI (2701-004W) 
LOCATION:Raum 16; EG; DIAKOVERE Akademie Gebäude Anna-von-Borries-Str. 7, Anna-von-Borries-Str. 1-7, 30625 Hannover
END:VEVENT
BEGIN:VEVENT
DTSTAMP:20260421T181715
DTSTART;TZID=Europe/Berlin:20270317T080000
DTEND;TZID=Europe/Berlin:20270317T150000
UID:2701-004W-20270317T080000@DIAK. AKADHANNOVER
SUMMARY:Weiterbildung Verantwortliche Pflegefachkraft nach § 71 SGB XI (2701-004W) 
LOCATION:Raum 16; EG; DIAKOVERE Akademie Gebäude Anna-von-Borries-Str. 7, Anna-von-Borries-Str. 1-7, 30625 Hannover
END:VEVENT
BEGIN:VEVENT
DTSTAMP:20260421T181715
DTSTART;TZID=Europe/Berlin:20270318T080000
DTEND;TZID=Europe/Berlin:20270318T150000
UID:2701-004W-20270318T080000@DIAK. AKADHANNOVER
SUMMARY:Weiterbildung Verantwortliche Pflegefachkraft nach § 71 SGB XI (2701-004W) 
LOCATION:Raum 16; EG; DIAKOVERE Akademie Gebäude Anna-von-Borries-Str. 7, Anna-von-Borries-Str. 1-7, 30625 Hannover
END:VEVENT
BEGIN:VEVENT
DTSTAMP:20260421T181715
DTSTART;TZID=Europe/Berlin:20270319T080000
DTEND;TZID=Europe/Berlin:20270319T150000
UID:2701-004W-20270319T080000@DIAK. AKADHANNOVER
SUMMARY:Weiterbildung Verantwortliche Pflegefachkraft nach § 71 SGB XI (2701-004W) 
LOCATION:Raum 16; EG; DIAKOVERE Akademie Gebäude Anna-von-Borries-Str. 7, Anna-von-Borries-Str. 1-7, 30625 Hannover
END:VEVENT
BEGIN:VEVENT
DTSTAMP:20260421T181715
DTSTART;TZID=Europe/Berlin:20270412T080000
DTEND;TZID=Europe/Berlin:20270412T150000
UID:2701-004W-20270412T080000@DIAK. AKADHANNOVER
SUMMARY:Weiterbildung Verantwortliche Pflegefachkraft nach § 71 SGB XI (2701-004W) 
LOCATION:Raum 16; EG; DIAKOVERE Akademie Gebäude Anna-von-Borries-Str. 7, Anna-von-Borries-Str. 1-7, 30625 Hannover
END:VEVENT
BEGIN:VEVENT
DTSTAMP:20260421T181715
DTSTART;TZID=Europe/Berlin:20270413T080000
DTEND;TZID=Europe/Berlin:20270413T150000
UID:2701-004W-20270413T080000@DIAK. AKADHANNOVER
SUMMARY:Weiterbildung Verantwortliche Pflegefachkraft nach § 71 SGB XI (2701-004W) 
LOCATION:Raum 16; EG; DIAKOVERE Akademie Gebäude Anna-von-Borries-Str. 7, Anna-von-Borries-Str. 1-7, 30625 Hannover
END:VEVENT
BEGIN:VEVENT
DTSTAMP:20260421T181715
DTSTART;TZID=Europe/Berlin:20270414T080000
DTEND;TZID=Europe/Berlin:20270414T150000
UID:2701-004W-20270414T080000@DIAK. AKADHANNOVER
SUMMARY:Weiterbildung Verantwortliche Pflegefachkraft nach § 71 SGB XI (2701-004W) 
LOCATION:Raum 16; EG; DIAKOVERE Akademie Gebäude Anna-von-Borries-Str. 7, Anna-von-Borries-Str. 1-7, 30625 Hannover
END:VEVENT
BEGIN:VEVENT
DTSTAMP:20260421T181715
DTSTART;TZID=Europe/Berlin:20270415T080000
DTEND;TZID=Europe/Berlin:20270415T150000
UID:2701-004W-20270415T080000@DIAK. AKADHANNOVER
SUMMARY:Weiterbildung Verantwortliche Pflegefachkraft nach § 71 SGB XI (2701-004W) 
LOCATION:Raum 16; EG; DIAKOVERE Akademie Gebäude Anna-von-Borries-Str. 7, Anna-von-Borries-Str. 1-7, 30625 Hannover
END:VEVENT
BEGIN:VEVENT
DTSTAMP:20260421T181715
DTSTART;TZID=Europe/Berlin:20270416T080000
DTEND;TZID=Europe/Berlin:20270416T150000
UID:2701-004W-20270416T080000@DIAK. AKADHANNOVER
SUMMARY:Weiterbildung Verantwortliche Pflegefachkraft nach § 71 SGB XI (2701-004W) 
LOCATION:Raum 16; EG; DIAKOVERE Akademie Gebäude Anna-von-Borries-Str. 7, Anna-von-Borries-Str. 1-7, 30625 Hannover
END:VEVENT
BEGIN:VEVENT
DTSTAMP:20260421T181715
DTSTART;TZID=Europe/Berlin:20270510T080000
DTEND;TZID=Europe/Berlin:20270510T150000
UID:2701-004W-20270510T080000@DIAK. AKADHANNOVER
SUMMARY:Weiterbildung Verantwortliche Pflegefachkraft nach § 71 SGB XI (2701-004W) 
LOCATION:Raum 16; EG; DIAKOVERE Akademie Gebäude Anna-von-Borries-Str. 7, Anna-von-Borries-Str. 1-7, 30625 Hannover
END:VEVENT
BEGIN:VEVENT
DTSTAMP:20260421T181715
DTSTART;TZID=Europe/Berlin:20270511T080000
DTEND;TZID=Europe/Berlin:20270511T150000
UID:2701-004W-20270511T080000@DIAK. AKADHANNOVER
SUMMARY:Weiterbildung Verantwortliche Pflegefachkraft nach § 71 SGB XI (2701-004W) 
LOCATION:Raum 16; EG; DIAKOVERE Akademie Gebäude Anna-von-Borries-Str. 7, Anna-von-Borries-Str. 1-7, 30625 Hannover
END:VEVENT
BEGIN:VEVENT
DTSTAMP:20260421T181715
DTSTART;TZID=Europe/Berlin:20270512T080000
DTEND;TZID=Europe/Berlin:20270512T150000
UID:2701-004W-20270512T080000@DIAK. AKADHANNOVER
SUMMARY:Weiterbildung Verantwortliche Pflegefachkraft nach § 71 SGB XI (2701-004W) 
LOCATION:Raum 16; EG; DIAKOVERE Akademie Gebäude Anna-von-Borries-Str. 7, Anna-von-Borries-Str. 1-7, 30625 Hannover
END:VEVENT
BEGIN:VEVENT
DTSTAMP:20260421T181715
DTSTART;TZID=Europe/Berlin:20270513T080000
DTEND;TZID=Europe/Berlin:20270513T150000
UID:2701-004W-20270513T080000@DIAK. AKADHANNOVER
SUMMARY:Weiterbildung Verantwortliche Pflegefachkraft nach § 71 SGB XI (2701-004W) 
LOCATION:Raum 16; EG; DIAKOVERE Akademie Gebäude Anna-von-Borries-Str. 7, Anna-von-Borries-Str. 1-7, 30625 Hannover
END:VEVENT
BEGIN:VEVENT
DTSTAMP:20260421T181715
DTSTART;TZID=Europe/Berlin:20270514T080000
DTEND;TZID=Europe/Berlin:20270514T150000
UID:2701-004W-20270514T080000@DIAK. AKADHANNOVER
SUMMARY:Weiterbildung Verantwortliche Pflegefachkraft nach § 71 SGB XI (2701-004W) 
LOCATION:Raum 16; EG; DIAKOVERE Akademie Gebäude Anna-von-Borries-Str. 7, Anna-von-Borries-Str. 1-7, 30625 Hannover
END:VEVENT
BEGIN:VEVENT
DTSTAMP:20260421T181715
DTSTART;TZID=Europe/Berlin:20270607T080000
DTEND;TZID=Europe/Berlin:20270607T150000
UID:2701-004W-20270607T080000@DIAK. AKADHANNOVER
SUMMARY:Weiterbildung Verantwortliche Pflegefachkraft nach § 71 SGB XI (2701-004W) 
LOCATION:Raum 16; EG; DIAKOVERE Akademie Gebäude Anna-von-Borries-Str. 7, Anna-von-Borries-Str. 1-7, 30625 Hannover
END:VEVENT
BEGIN:VEVENT
DTSTAMP:20260421T181715
DTSTART;TZID=Europe/Berlin:20270608T080000
DTEND;TZID=Europe/Berlin:20270608T150000
UID:2701-004W-20270608T080000@DIAK. AKADHANNOVER
SUMMARY:Weiterbildung Verantwortliche Pflegefachkraft nach § 71 SGB XI (2701-004W) 
LOCATION:Raum 16; EG; DIAKOVERE Akademie Gebäude Anna-von-Borries-Str. 7, Anna-von-Borries-Str. 1-7, 30625 Hannover
END:VEVENT
BEGIN:VEVENT
DTSTAMP:20260421T181715
DTSTART;TZID=Europe/Berlin:20270609T080000
DTEND;TZID=Europe/Berlin:20270609T150000
UID:2701-004W-20270609T080000@DIAK. AKADHANNOVER
SUMMARY:Weiterbildung Verantwortliche Pflegefachkraft nach § 71 SGB XI (2701-004W) 
LOCATION:Raum 16; EG; DIAKOVERE Akademie Gebäude Anna-von-Borries-Str. 7, Anna-von-Borries-Str. 1-7, 30625 Hannover
END:VEVENT
BEGIN:VEVENT
DTSTAMP:20260421T181715
DTSTART;TZID=Europe/Berlin:20270610T080000
DTEND;TZID=Europe/Berlin:20270610T150000
UID:2701-004W-20270610T080000@DIAK. AKADHANNOVER
SUMMARY:Weiterbildung Verantwortliche Pflegefachkraft nach § 71 SGB XI (2701-004W) 
LOCATION:Raum 16; EG; DIAKOVERE Akademie Gebäude Anna-von-Borries-Str. 7, Anna-von-Borries-Str. 1-7, 30625 Hannover
END:VEVENT
BEGIN:VEVENT
DTSTAMP:20260421T181715
DTSTART;TZID=Europe/Berlin:20270611T080000
DTEND;TZID=Europe/Berlin:20270611T150000
UID:2701-004W-20270611T080000@DIAK. AKADHANNOVER
SUMMARY:Weiterbildung Verantwortliche Pflegefachkraft nach § 71 SGB XI (2701-004W) 
LOCATION:Raum 16; EG; DIAKOVERE Akademie Gebäude Anna-von-Borries-Str. 7, Anna-von-Borries-Str. 1-7, 30625 Hannover
END:VEVENT
BEGIN:VEVENT
DTSTAMP:20260421T181715
DTSTART;TZID=Europe/Berlin:20270628T080000
DTEND;TZID=Europe/Berlin:20270628T150000
UID:2701-004W-20270628T080000@DIAK. AKADHANNOVER
SUMMARY:Weiterbildung Verantwortliche Pflegefachkraft nach § 71 SGB XI (2701-004W) 
LOCATION:Raum 16; EG; DIAKOVERE Akademie Gebäude Anna-von-Borries-Str. 7, Anna-von-Borries-Str. 1-7, 30625 Hannover
END:VEVENT
BEGIN:VEVENT
DTSTAMP:20260421T181715
DTSTART;TZID=Europe/Berlin:20270629T080000
DTEND;TZID=Europe/Berlin:20270629T150000
UID:2701-004W-20270629T080000@DIAK. AKADHANNOVER
SUMMARY:Weiterbildung Verantwortliche Pflegefachkraft nach § 71 SGB XI (2701-004W) 
LOCATION:Raum 16; EG; DIAKOVERE Akademie Gebäude Anna-von-Borries-Str. 7, Anna-von-Borries-Str. 1-7, 30625 Hannover
END:VEVENT
BEGIN:VEVENT
DTSTAMP:20260421T181715
DTSTART;TZID=Europe/Berlin:20270630T080000
DTEND;TZID=Europe/Berlin:20270630T150000
UID:2701-004W-20270630T080000@DIAK. AKADHANNOVER
SUMMARY:Weiterbildung Verantwortliche Pflegefachkraft nach § 71 SGB XI (2701-004W) 
LOCATION:Raum 16; EG; DIAKOVERE Akademie Gebäude Anna-von-Borries-Str. 7, Anna-von-Borries-Str. 1-7, 30625 Hannover
END:VEVENT
BEGIN:VEVENT
DTSTAMP:20260421T181715
DTSTART;TZID=Europe/Berlin:20270701T080000
DTEND;TZID=Europe/Berlin:20270701T150000
UID:2701-004W-20270701T080000@DIAK. AKADHANNOVER
SUMMARY:Weiterbildung Verantwortliche Pflegefachkraft nach § 71 SGB XI (2701-004W) 
LOCATION:Raum 16; EG; DIAKOVERE Akademie Gebäude Anna-von-Borries-Str. 7, Anna-von-Borries-Str. 1-7, 30625 Hannover
END:VEVENT
BEGIN:VEVENT
DTSTAMP:20260421T181715
DTSTART;TZID=Europe/Berlin:20270702T080000
DTEND;TZID=Europe/Berlin:20270702T150000
UID:2701-004W-20270702T080000@DIAK. AKADHANNOVER
SUMMARY:Weiterbildung Verantwortliche Pflegefachkraft nach § 71 SGB XI (2701-004W) 
LOCATION:Raum 16; EG; DIAKOVERE Akademie Gebäude Anna-von-Borries-Str. 7, Anna-von-Borries-Str. 1-7, 30625 Hannover
END:VEVENT
BEGIN:VEVENT
DTSTAMP:20260421T181715
DTSTART;TZID=Europe/Berlin:20270823T080000
DTEND;TZID=Europe/Berlin:20270823T150000
UID:2701-004W-20270823T080000@DIAK. AKADHANNOVER
SUMMARY:Weiterbildung Verantwortliche Pflegefachkraft nach § 71 SGB XI (2701-004W) 
LOCATION:Raum 16; EG; DIAKOVERE Akademie Gebäude Anna-von-Borries-Str. 7, Anna-von-Borries-Str. 1-7, 30625 Hannover
END:VEVENT
BEGIN:VEVENT
DTSTAMP:20260421T181715
DTSTART;TZID=Europe/Berlin:20270824T080000
DTEND;TZID=Europe/Berlin:20270824T150000
UID:2701-004W-20270824T080000@DIAK. AKADHANNOVER
SUMMARY:Weiterbildung Verantwortliche Pflegefachkraft nach § 71 SGB XI (2701-004W) 
LOCATION:Raum 16; EG; DIAKOVERE Akademie Gebäude Anna-von-Borries-Str. 7, Anna-von-Borries-Str. 1-7, 30625 Hannover
END:VEVENT
BEGIN:VEVENT
DTSTAMP:20260421T181715
DTSTART;TZID=Europe/Berlin:20270825T080000
DTEND;TZID=Europe/Berlin:20270825T150000
UID:2701-004W-20270825T080000@DIAK. AKADHANNOVER
SUMMARY:Weiterbildung Verantwortliche Pflegefachkraft nach § 71 SGB XI (2701-004W) 
LOCATION:Raum 16; EG; DIAKOVERE Akademie Gebäude Anna-von-Borries-Str. 7, Anna-von-Borries-Str. 1-7, 30625 Hannover
END:VEVENT
BEGIN:VEVENT
DTSTAMP:20260421T181715
DTSTART;TZID=Europe/Berlin:20270826T080000
DTEND;TZID=Europe/Berlin:20270826T150000
UID:2701-004W-20270826T080000@DIAK. AKADHANNOVER
SUMMARY:Weiterbildung Verantwortliche Pflegefachkraft nach § 71 SGB XI (2701-004W) 
LOCATION:Raum 16; EG; DIAKOVERE Akademie Gebäude Anna-von-Borries-Str. 7, Anna-von-Borries-Str. 1-7, 30625 Hannover
END:VEVENT
BEGIN:VEVENT
DTSTAMP:20260421T181715
DTSTART;TZID=Europe/Berlin:20270827T080000
DTEND;TZID=Europe/Berlin:20270827T150000
UID:2701-004W-20270827T080000@DIAK. AKADHANNOVER
SUMMARY:Weiterbildung Verantwortliche Pflegefachkraft nach § 71 SGB XI (2701-004W) 
LOCATION:Raum 16; EG; DIAKOVERE Akademie Gebäude Anna-von-Borries-Str. 7, Anna-von-Borries-Str. 1-7, 30625 Hannover
END:VEVENT
BEGIN:VEVENT
DTSTAMP:20260421T181715
DTSTART;TZID=Europe/Berlin:20270920T080000
DTEND;TZID=Europe/Berlin:20270920T150000
UID:2701-004W-20270920T080000@DIAK. AKADHANNOVER
SUMMARY:Weiterbildung Verantwortliche Pflegefachkraft nach § 71 SGB XI (2701-004W) 
LOCATION:Raum 16; EG; DIAKOVERE Akademie Gebäude Anna-von-Borries-Str. 7, Anna-von-Borries-Str. 1-7, 30625 Hannover
END:VEVENT
BEGIN:VEVENT
DTSTAMP:20260421T181715
DTSTART;TZID=Europe/Berlin:20270921T080000
DTEND;TZID=Europe/Berlin:20270921T150000
UID:2701-004W-20270921T080000@DIAK. AKADHANNOVER
SUMMARY:Weiterbildung Verantwortliche Pflegefachkraft nach § 71 SGB XI (2701-004W) 
LOCATION:Raum 16; EG; DIAKOVERE Akademie Gebäude Anna-von-Borries-Str. 7, Anna-von-Borries-Str. 1-7, 30625 Hannover
END:VEVENT
BEGIN:VEVENT
DTSTAMP:20260421T181715
DTSTART;TZID=Europe/Berlin:20270922T080000
DTEND;TZID=Europe/Berlin:20270922T150000
UID:2701-004W-20270922T080000@DIAK. AKADHANNOVER
SUMMARY:Weiterbildung Verantwortliche Pflegefachkraft nach § 71 SGB XI (2701-004W) 
LOCATION:Raum 16; EG; DIAKOVERE Akademie Gebäude Anna-von-Borries-Str. 7, Anna-von-Borries-Str. 1-7, 30625 Hannover
END:VEVENT
BEGIN:VEVENT
DTSTAMP:20260421T181715
DTSTART;TZID=Europe/Berlin:20270923T080000
DTEND;TZID=Europe/Berlin:20270923T150000
UID:2701-004W-20270923T080000@DIAK. AKADHANNOVER
SUMMARY:Weiterbildung Verantwortliche Pflegefachkraft nach § 71 SGB XI (2701-004W) 
LOCATION:Raum 16; EG; DIAKOVERE Akademie Gebäude Anna-von-Borries-Str. 7, Anna-von-Borries-Str. 1-7, 30625 Hannover
END:VEVENT
BEGIN:VEVENT
DTSTAMP:20260421T181715
DTSTART;TZID=Europe/Berlin:20270924T080000
DTEND;TZID=Europe/Berlin:20270924T150000
UID:2701-004W-20270924T080000@DIAK. AKADHANNOVER
SUMMARY:Weiterbildung Verantwortliche Pflegefachkraft nach § 71 SGB XI (2701-004W) 
LOCATION:Raum 16; EG; DIAKOVERE Akademie Gebäude Anna-von-Borries-Str. 7, Anna-von-Borries-Str. 1-7, 30625 Hannover
END:VEVENT
BEGIN:VEVENT
DTSTAMP:20260421T181715
DTSTART;TZID=Europe/Berlin:20271011T080000
DTEND;TZID=Europe/Berlin:20271011T150000
UID:2701-004W-20271011T080000@DIAK. AKADHANNOVER
SUMMARY:Weiterbildung Verantwortliche Pflegefachkraft nach § 71 SGB XI (2701-004W) 
LOCATION:Raum 16; EG; DIAKOVERE Akademie Gebäude Anna-von-Borries-Str. 7, Anna-von-Borries-Str. 1-7, 30625 Hannover
END:VEVENT
BEGIN:VEVENT
DTSTAMP:20260421T181715
DTSTART;TZID=Europe/Berlin:20271012T080000
DTEND;TZID=Europe/Berlin:20271012T150000
UID:2701-004W-20271012T080000@DIAK. AKADHANNOVER
SUMMARY:Weiterbildung Verantwortliche Pflegefachkraft nach § 71 SGB XI (2701-004W) 
LOCATION:Raum 16; EG; DIAKOVERE Akademie Gebäude Anna-von-Borries-Str. 7, Anna-von-Borries-Str. 1-7, 30625 Hannover
END:VEVENT
BEGIN:VEVENT
DTSTAMP:20260421T181715
DTSTART;TZID=Europe/Berlin:20271013T080000
DTEND;TZID=Europe/Berlin:20271013T150000
UID:2701-004W-20271013T080000@DIAK. AKADHANNOVER
SUMMARY:Weiterbildung Verantwortliche Pflegefachkraft nach § 71 SGB XI (2701-004W) 
LOCATION:Raum 16; EG; DIAKOVERE Akademie Gebäude Anna-von-Borries-Str. 7, Anna-von-Borries-Str. 1-7, 30625 Hannover
END:VEVENT
BEGIN:VEVENT
DTSTAMP:20260421T181715
DTSTART;TZID=Europe/Berlin:20271014T080000
DTEND;TZID=Europe/Berlin:20271014T150000
UID:2701-004W-20271014T080000@DIAK. AKADHANNOVER
SUMMARY:Weiterbildung Verantwortliche Pflegefachkraft nach § 71 SGB XI (2701-004W) 
LOCATION:Raum 16; EG; DIAKOVERE Akademie Gebäude Anna-von-Borries-Str. 7, Anna-von-Borries-Str. 1-7, 30625 Hannover
END:VEVENT
BEGIN:VEVENT
DTSTAMP:20260421T181715
DTSTART;TZID=Europe/Berlin:20271015T080000
DTEND;TZID=Europe/Berlin:20271015T150000
UID:2701-004W-20271015T080000@DIAK. AKADHANNOVER
SUMMARY:Weiterbildung Verantwortliche Pflegefachkraft nach § 71 SGB XI (2701-004W) 
LOCATION:Raum 16; EG; DIAKOVERE Akademie Gebäude Anna-von-Borries-Str. 7, Anna-von-Borries-Str. 1-7, 30625 Hannover
END:VEVENT
BEGIN:VEVENT
DTSTAMP:20260421T181715
DTSTART;TZID=Europe/Berlin:20271108T080000
DTEND;TZID=Europe/Berlin:20271108T150000
UID:2701-004W-20271108T080000@DIAK. AKADHANNOVER
SUMMARY:Weiterbildung Verantwortliche Pflegefachkraft nach § 71 SGB XI (2701-004W) 
LOCATION:Raum 16; EG; DIAKOVERE Akademie Gebäude Anna-von-Borries-Str. 7, Anna-von-Borries-Str. 1-7, 30625 Hannover
END:VEVENT
BEGIN:VEVENT
DTSTAMP:20260421T181715
DTSTART;TZID=Europe/Berlin:20271109T080000
DTEND;TZID=Europe/Berlin:20271109T150000
UID:2701-004W-20271109T080000@DIAK. AKADHANNOVER
SUMMARY:Weiterbildung Verantwortliche Pflegefachkraft nach § 71 SGB XI (2701-004W) 
LOCATION:Raum 16; EG; DIAKOVERE Akademie Gebäude Anna-von-Borries-Str. 7, Anna-von-Borries-Str. 1-7, 30625 Hannover
END:VEVENT
BEGIN:VEVENT
DTSTAMP:20260421T181715
DTSTART;TZID=Europe/Berlin:20271110T080000
DTEND;TZID=Europe/Berlin:20271110T150000
UID:2701-004W-20271110T080000@DIAK. AKADHANNOVER
SUMMARY:Weiterbildung Verantwortliche Pflegefachkraft nach § 71 SGB XI (2701-004W) 
LOCATION:Raum 16; EG; DIAKOVERE Akademie Gebäude Anna-von-Borries-Str. 7, Anna-von-Borries-Str. 1-7, 30625 Hannover
END:VEVENT
BEGIN:VEVENT
DTSTAMP:20260421T181715
DTSTART;TZID=Europe/Berlin:20271111T080000
DTEND;TZID=Europe/Berlin:20271111T150000
UID:2701-004W-20271111T080000@DIAK. AKADHANNOVER
SUMMARY:Weiterbildung Verantwortliche Pflegefachkraft nach § 71 SGB XI (2701-004W) 
LOCATION:Raum 16; EG; DIAKOVERE Akademie Gebäude Anna-von-Borries-Str. 7, Anna-von-Borries-Str. 1-7, 30625 Hannover
END:VEVENT
BEGIN:VEVENT
DTSTAMP:20260421T181715
DTSTART;TZID=Europe/Berlin:20271112T080000
DTEND;TZID=Europe/Berlin:20271112T150000
UID:2701-004W-20271112T080000@DIAK. AKADHANNOVER
SUMMARY:Weiterbildung Verantwortliche Pflegefachkraft nach § 71 SGB XI (2701-004W) 
LOCATION:Raum 16; EG; DIAKOVERE Akademie Gebäude Anna-von-Borries-Str. 7, Anna-von-Borries-Str. 1-7, 30625 Hannover
END:VEVENT
BEGIN:VEVENT
DTSTAMP:20260421T181715
DTSTART;TZID=Europe/Berlin:20271206T080000
DTEND;TZID=Europe/Berlin:20271206T150000
UID:2701-004W-20271206T080000@DIAK. AKADHANNOVER
SUMMARY:Weiterbildung Verantwortliche Pflegefachkraft nach § 71 SGB XI (2701-004W) 
LOCATION:Raum 16; EG; DIAKOVERE Akademie Gebäude Anna-von-Borries-Str. 7, Anna-von-Borries-Str. 1-7, 30625 Hannover
END:VEVENT
BEGIN:VEVENT
DTSTAMP:20260421T181715
DTSTART;TZID=Europe/Berlin:20271207T080000
DTEND;TZID=Europe/Berlin:20271207T150000
UID:2701-004W-20271207T080000@DIAK. AKADHANNOVER
SUMMARY:Weiterbildung Verantwortliche Pflegefachkraft nach § 71 SGB XI (2701-004W) 
LOCATION:Raum 16; EG; DIAKOVERE Akademie Gebäude Anna-von-Borries-Str. 7, Anna-von-Borries-Str. 1-7, 30625 Hannover
END:VEVENT
BEGIN:VEVENT
DTSTAMP:20260421T181715
DTSTART;TZID=Europe/Berlin:20271208T080000
DTEND;TZID=Europe/Berlin:20271208T150000
UID:2701-004W-20271208T080000@DIAK. AKADHANNOVER
SUMMARY:Weiterbildung Verantwortliche Pflegefachkraft nach § 71 SGB XI (2701-004W) 
LOCATION:Raum 16; EG; DIAKOVERE Akademie Gebäude Anna-von-Borries-Str. 7, Anna-von-Borries-Str. 1-7, 30625 Hannover
END:VEVENT
BEGIN:VEVENT
DTSTAMP:20260421T181715
DTSTART;TZID=Europe/Berlin:20271209T080000
DTEND;TZID=Europe/Berlin:20271209T150000
UID:2701-004W-20271209T080000@DIAK. AKADHANNOVER
SUMMARY:Weiterbildung Verantwortliche Pflegefachkraft nach § 71 SGB XI (2701-004W) 
LOCATION:Raum 16; EG; DIAKOVERE Akademie Gebäude Anna-von-Borries-Str. 7, Anna-von-Borries-Str. 1-7, 30625 Hannover
END:VEVENT
BEGIN:VEVENT
DTSTAMP:20260421T181715
DTSTART;TZID=Europe/Berlin:20271210T080000
DTEND;TZID=Europe/Berlin:20271210T150000
UID:2701-004W-20271210T080000@DIAK. AKADHANNOVER
SUMMARY:Weiterbildung Verantwortliche Pflegefachkraft nach § 71 SGB XI (2701-004W) 
LOCATION:Raum 16; EG; DIAKOVERE Akademie Gebäude Anna-von-Borries-Str. 7, Anna-von-Borries-Str. 1-7, 30625 Hannover
END:VEVENT
END:VCALENDAR