BEGIN:VCALENDAR
PRODID:http://www.kufer.de/kuferweb / DE
VERSION:2.0
METHOD:PUBLISH
CALSCALE:GREGORIAN
X-WR-TIMEZONE:Europe/Berlin
BEGIN:VTIMEZONE
TZID:Europe/Berlin
X-LIC-LOCATION:Europe/Berlin
BEGIN:DAYLIGHT
TZOFFSETFROM:+0100
TZOFFSETTO:+0200
TZNAME:CEST
DTSTART;TZID=Europe/Berlin:19700329T020000
RRULE:FREQ=YEARLY;INTERVAL=1;BYDAY=-1SU;BYMONTH=3
END:DAYLIGHT
BEGIN:STANDARD
TZOFFSETFROM:+0200
TZOFFSETTO:+0100
TZNAME:CET
DTSTART;TZID=Europe/Berlin:19701025T030000
RRULE:FREQ=YEARLY;INTERVAL=1;BYDAY=-1SU;BYMONTH=10
END:STANDARD
END:VTIMEZONE
BEGIN:VEVENT
DTSTAMP:20260421T210039
DTSTART;TZID=Europe/Berlin:20261102T090000
DTEND;TZID=Europe/Berlin:20261102T163000
UID:2611-010E-20261102T090000@DIAK. AKADHANNOVER
SUMMARY:Wie gelingt guter Unterricht - Einführung in Methodik und Didaktik für Lehrende in Gesundheits- und Sozialberufen (2611-010E) 
LOCATION:Raum 15; EG; DIAKOVERE Akademie Gebäude Anna-von-Borries-Str. 7, Anna-von-Borries-Str. 1-7, 30625 Hannover
END:VEVENT
BEGIN:VEVENT
DTSTAMP:20260421T210039
DTSTART;TZID=Europe/Berlin:20261103T090000
DTEND;TZID=Europe/Berlin:20261103T163000
UID:2611-010E-20261103T090000@DIAK. AKADHANNOVER
SUMMARY:Wie gelingt guter Unterricht - Einführung in Methodik und Didaktik für Lehrende in Gesundheits- und Sozialberufen (2611-010E) 
LOCATION:Raum 15; EG; DIAKOVERE Akademie Gebäude Anna-von-Borries-Str. 7, Anna-von-Borries-Str. 1-7, 30625 Hannover
END:VEVENT
BEGIN:VEVENT
DTSTAMP:20260421T210039
DTSTART;TZID=Europe/Berlin:20261104T090000
DTEND;TZID=Europe/Berlin:20261104T163000
UID:2611-010E-20261104T090000@DIAK. AKADHANNOVER
SUMMARY:Wie gelingt guter Unterricht - Einführung in Methodik und Didaktik für Lehrende in Gesundheits- und Sozialberufen (2611-010E) 
LOCATION:Raum 15; EG; DIAKOVERE Akademie Gebäude Anna-von-Borries-Str. 7, Anna-von-Borries-Str. 1-7, 30625 Hannover
END:VEVENT
BEGIN:VEVENT
DTSTAMP:20260421T210039
DTSTART;TZID=Europe/Berlin:20261208T083000
DTEND;TZID=Europe/Berlin:20261208T160000
UID:2612-012E-20261208T083000@DIAK. AKADHANNOVER
SUMMARY:Webinar: aktivierende Unterrichte planen und durchführen (2612-012E) 
LOCATION:Webinar, , 
END:VEVENT
BEGIN:VEVENT
DTSTAMP:20260421T210039
DTSTART;TZID=Europe/Berlin:20270118T090000
DTEND;TZID=Europe/Berlin:20270118T163000
UID:2701-001E-20270118T090000@DIAK. AKADHANNOVER
SUMMARY:Selbstgelernt hält länger- Lernprozesse fördern und begleiten (2701-001E) 
LOCATION:Raum 17; EG; DIAKOVERE Akademie Gebäude Anna-von-Borries-Str. 7, Anna-von-Borries-Str. 1-7, 30625 Hannover
END:VEVENT
BEGIN:VEVENT
DTSTAMP:20260421T210039
DTSTART;TZID=Europe/Berlin:20270119T090000
DTEND;TZID=Europe/Berlin:20270119T163000
UID:2701-001E-20270119T090000@DIAK. AKADHANNOVER
SUMMARY:Selbstgelernt hält länger- Lernprozesse fördern und begleiten (2701-001E) 
LOCATION:Raum 17; EG; DIAKOVERE Akademie Gebäude Anna-von-Borries-Str. 7, Anna-von-Borries-Str. 1-7, 30625 Hannover
END:VEVENT
BEGIN:VEVENT
DTSTAMP:20260421T210039
DTSTART;TZID=Europe/Berlin:20270120T090000
DTEND;TZID=Europe/Berlin:20270120T163000
UID:2701-001E-20270120T090000@DIAK. AKADHANNOVER
SUMMARY:Selbstgelernt hält länger- Lernprozesse fördern und begleiten (2701-001E) 
LOCATION:Raum 17; EG; DIAKOVERE Akademie Gebäude Anna-von-Borries-Str. 7, Anna-von-Borries-Str. 1-7, 30625 Hannover
END:VEVENT
BEGIN:VEVENT
DTSTAMP:20260421T210039
DTSTART;TZID=Europe/Berlin:20270519T090000
DTEND;TZID=Europe/Berlin:20270519T163000
UID:2705-002E-20270519T090000@DIAK. AKADHANNOVER
SUMMARY:Unterricht zeigen: Lehrproben in der Gruppe mit Lehrcoaching (2705-002E) 
LOCATION:Raum 17; EG; DIAKOVERE Akademie Gebäude Anna-von-Borries-Str. 7, Anna-von-Borries-Str. 1-7, 30625 Hannover
END:VEVENT
BEGIN:VEVENT
DTSTAMP:20260421T210039
DTSTART;TZID=Europe/Berlin:20270520T090000
DTEND;TZID=Europe/Berlin:20270520T163000
UID:2705-002E-20270520T090000@DIAK. AKADHANNOVER
SUMMARY:Unterricht zeigen: Lehrproben in der Gruppe mit Lehrcoaching (2705-002E) 
LOCATION:Raum 17; EG; DIAKOVERE Akademie Gebäude Anna-von-Borries-Str. 7, Anna-von-Borries-Str. 1-7, 30625 Hannover
END:VEVENT
END:VCALENDAR