BEGIN:VCALENDAR
PRODID:http://www.kufer.de/kuferweb / DE
VERSION:2.0
METHOD:PUBLISH
CALSCALE:GREGORIAN
X-WR-TIMEZONE:Europe/Berlin
BEGIN:VTIMEZONE
TZID:Europe/Berlin
X-LIC-LOCATION:Europe/Berlin
BEGIN:DAYLIGHT
TZOFFSETFROM:+0100
TZOFFSETTO:+0200
TZNAME:CEST
DTSTART;TZID=Europe/Berlin:19700329T020000
RRULE:FREQ=YEARLY;INTERVAL=1;BYDAY=-1SU;BYMONTH=3
END:DAYLIGHT
BEGIN:STANDARD
TZOFFSETFROM:+0200
TZOFFSETTO:+0100
TZNAME:CET
DTSTART;TZID=Europe/Berlin:19701025T030000
RRULE:FREQ=YEARLY;INTERVAL=1;BYDAY=-1SU;BYMONTH=10
END:STANDARD
END:VTIMEZONE
BEGIN:VEVENT
DTSTAMP:20260419T162241
DTSTART;TZID=Europe/Berlin:20261026T080000
DTEND;TZID=Europe/Berlin:20261026T150000
UID:2610-016W-20261026T080000@DIAK. AKADHANNOVER
SUMMARY:Weiterbildung Praxisanleitung - interdisziplinär (2610-016W) 
LOCATION:Raum 02; 2. OG; DIAKOVERE Akademie Hauptgebäude, Anna-von-Borries-Str. 1-7, 30625 Hannover
END:VEVENT
BEGIN:VEVENT
DTSTAMP:20260419T162241
DTSTART;TZID=Europe/Berlin:20261027T080000
DTEND;TZID=Europe/Berlin:20261027T150000
UID:2610-016W-20261027T080000@DIAK. AKADHANNOVER
SUMMARY:Weiterbildung Praxisanleitung - interdisziplinär (2610-016W) 
LOCATION:Raum 02; 2. OG; DIAKOVERE Akademie Hauptgebäude, Anna-von-Borries-Str. 1-7, 30625 Hannover
END:VEVENT
BEGIN:VEVENT
DTSTAMP:20260419T162241
DTSTART;TZID=Europe/Berlin:20261028T080000
DTEND;TZID=Europe/Berlin:20261028T150000
UID:2610-016W-20261028T080000@DIAK. AKADHANNOVER
SUMMARY:Weiterbildung Praxisanleitung - interdisziplinär (2610-016W) 
LOCATION:Raum 02; 2. OG; DIAKOVERE Akademie Hauptgebäude, Anna-von-Borries-Str. 1-7, 30625 Hannover
END:VEVENT
BEGIN:VEVENT
DTSTAMP:20260419T162241
DTSTART;TZID=Europe/Berlin:20261029T080000
DTEND;TZID=Europe/Berlin:20261029T150000
UID:2610-016W-20261029T080000@DIAK. AKADHANNOVER
SUMMARY:Weiterbildung Praxisanleitung - interdisziplinär (2610-016W) 
LOCATION:Raum 02; 2. OG; DIAKOVERE Akademie Hauptgebäude, Anna-von-Borries-Str. 1-7, 30625 Hannover
END:VEVENT
BEGIN:VEVENT
DTSTAMP:20260419T162241
DTSTART;TZID=Europe/Berlin:20261030T080000
DTEND;TZID=Europe/Berlin:20261030T150000
UID:2610-016W-20261030T080000@DIAK. AKADHANNOVER
SUMMARY:Weiterbildung Praxisanleitung - interdisziplinär (2610-016W) 
LOCATION:Raum 02; 2. OG; DIAKOVERE Akademie Hauptgebäude, Anna-von-Borries-Str. 1-7, 30625 Hannover
END:VEVENT
BEGIN:VEVENT
DTSTAMP:20260419T162241
DTSTART;TZID=Europe/Berlin:20261116T080000
DTEND;TZID=Europe/Berlin:20261116T150000
UID:2610-016W-20261116T080000@DIAK. AKADHANNOVER
SUMMARY:Weiterbildung Praxisanleitung - interdisziplinär (2610-016W) 
LOCATION:Raum 15; EG; DIAKOVERE Akademie Gebäude Anna-von-Borries-Str. 7, Anna-von-Borries-Str. 1-7, 30625 Hannover
END:VEVENT
BEGIN:VEVENT
DTSTAMP:20260419T162241
DTSTART;TZID=Europe/Berlin:20261117T080000
DTEND;TZID=Europe/Berlin:20261117T150000
UID:2610-016W-20261117T080000@DIAK. AKADHANNOVER
SUMMARY:Weiterbildung Praxisanleitung - interdisziplinär (2610-016W) 
LOCATION:Raum 15; EG; DIAKOVERE Akademie Gebäude Anna-von-Borries-Str. 7, Anna-von-Borries-Str. 1-7, 30625 Hannover
END:VEVENT
BEGIN:VEVENT
DTSTAMP:20260419T162241
DTSTART;TZID=Europe/Berlin:20261118T080000
DTEND;TZID=Europe/Berlin:20261118T150000
UID:2610-016W-20261118T080000@DIAK. AKADHANNOVER
SUMMARY:Weiterbildung Praxisanleitung - interdisziplinär (2610-016W) 
LOCATION:Raum 15; EG; DIAKOVERE Akademie Gebäude Anna-von-Borries-Str. 7, Anna-von-Borries-Str. 1-7, 30625 Hannover
END:VEVENT
BEGIN:VEVENT
DTSTAMP:20260419T162241
DTSTART;TZID=Europe/Berlin:20261119T080000
DTEND;TZID=Europe/Berlin:20261119T150000
UID:2610-016W-20261119T080000@DIAK. AKADHANNOVER
SUMMARY:Weiterbildung Praxisanleitung - interdisziplinär (2610-016W) 
LOCATION:Raum 15; EG; DIAKOVERE Akademie Gebäude Anna-von-Borries-Str. 7, Anna-von-Borries-Str. 1-7, 30625 Hannover
END:VEVENT
BEGIN:VEVENT
DTSTAMP:20260419T162241
DTSTART;TZID=Europe/Berlin:20261120T080000
DTEND;TZID=Europe/Berlin:20261120T150000
UID:2610-016W-20261120T080000@DIAK. AKADHANNOVER
SUMMARY:Weiterbildung Praxisanleitung - interdisziplinär (2610-016W) 
LOCATION:Raum 15; EG; DIAKOVERE Akademie Gebäude Anna-von-Borries-Str. 7, Anna-von-Borries-Str. 1-7, 30625 Hannover
END:VEVENT
BEGIN:VEVENT
DTSTAMP:20260419T162241
DTSTART;TZID=Europe/Berlin:20261207T080000
DTEND;TZID=Europe/Berlin:20261207T150000
UID:2610-016W-20261207T080000@DIAK. AKADHANNOVER
SUMMARY:Weiterbildung Praxisanleitung - interdisziplinär (2610-016W) 
LOCATION:Raum 02; 2. OG; DIAKOVERE Akademie Hauptgebäude, Anna-von-Borries-Str. 1-7, 30625 Hannover
END:VEVENT
BEGIN:VEVENT
DTSTAMP:20260419T162241
DTSTART;TZID=Europe/Berlin:20261208T080000
DTEND;TZID=Europe/Berlin:20261208T150000
UID:2610-016W-20261208T080000@DIAK. AKADHANNOVER
SUMMARY:Weiterbildung Praxisanleitung - interdisziplinär (2610-016W) 
LOCATION:Raum 02; 2. OG; DIAKOVERE Akademie Hauptgebäude, Anna-von-Borries-Str. 1-7, 30625 Hannover
END:VEVENT
BEGIN:VEVENT
DTSTAMP:20260419T162241
DTSTART;TZID=Europe/Berlin:20261209T080000
DTEND;TZID=Europe/Berlin:20261209T150000
UID:2610-016W-20261209T080000@DIAK. AKADHANNOVER
SUMMARY:Weiterbildung Praxisanleitung - interdisziplinär (2610-016W) 
LOCATION:Raum 02; 2. OG; DIAKOVERE Akademie Hauptgebäude, Anna-von-Borries-Str. 1-7, 30625 Hannover
END:VEVENT
BEGIN:VEVENT
DTSTAMP:20260419T162241
DTSTART;TZID=Europe/Berlin:20261210T080000
DTEND;TZID=Europe/Berlin:20261210T150000
UID:2610-016W-20261210T080000@DIAK. AKADHANNOVER
SUMMARY:Weiterbildung Praxisanleitung - interdisziplinär (2610-016W) 
LOCATION:Raum 02; 2. OG; DIAKOVERE Akademie Hauptgebäude, Anna-von-Borries-Str. 1-7, 30625 Hannover
END:VEVENT
BEGIN:VEVENT
DTSTAMP:20260419T162241
DTSTART;TZID=Europe/Berlin:20261211T080000
DTEND;TZID=Europe/Berlin:20261211T150000
UID:2610-016W-20261211T080000@DIAK. AKADHANNOVER
SUMMARY:Weiterbildung Praxisanleitung - interdisziplinär (2610-016W) 
LOCATION:Raum 02; 2. OG; DIAKOVERE Akademie Hauptgebäude, Anna-von-Borries-Str. 1-7, 30625 Hannover
END:VEVENT
BEGIN:VEVENT
DTSTAMP:20260419T162241
DTSTART;TZID=Europe/Berlin:20270125T080000
DTEND;TZID=Europe/Berlin:20270125T150000
UID:2610-016W-20270125T080000@DIAK. AKADHANNOVER
SUMMARY:Weiterbildung Praxisanleitung - interdisziplinär (2610-016W) 
LOCATION:Raum 15; EG; DIAKOVERE Akademie Gebäude Anna-von-Borries-Str. 7, Anna-von-Borries-Str. 1-7, 30625 Hannover
END:VEVENT
BEGIN:VEVENT
DTSTAMP:20260419T162241
DTSTART;TZID=Europe/Berlin:20270126T080000
DTEND;TZID=Europe/Berlin:20270126T150000
UID:2610-016W-20270126T080000@DIAK. AKADHANNOVER
SUMMARY:Weiterbildung Praxisanleitung - interdisziplinär (2610-016W) 
LOCATION:Raum 15; EG; DIAKOVERE Akademie Gebäude Anna-von-Borries-Str. 7, Anna-von-Borries-Str. 1-7, 30625 Hannover
END:VEVENT
BEGIN:VEVENT
DTSTAMP:20260419T162241
DTSTART;TZID=Europe/Berlin:20270127T080000
DTEND;TZID=Europe/Berlin:20270127T150000
UID:2610-016W-20270127T080000@DIAK. AKADHANNOVER
SUMMARY:Weiterbildung Praxisanleitung - interdisziplinär (2610-016W) 
LOCATION:Raum 15; EG; DIAKOVERE Akademie Gebäude Anna-von-Borries-Str. 7, Anna-von-Borries-Str. 1-7, 30625 Hannover
END:VEVENT
BEGIN:VEVENT
DTSTAMP:20260419T162241
DTSTART;TZID=Europe/Berlin:20270128T080000
DTEND;TZID=Europe/Berlin:20270128T150000
UID:2610-016W-20270128T080000@DIAK. AKADHANNOVER
SUMMARY:Weiterbildung Praxisanleitung - interdisziplinär (2610-016W) 
LOCATION:Raum 15; EG; DIAKOVERE Akademie Gebäude Anna-von-Borries-Str. 7, Anna-von-Borries-Str. 1-7, 30625 Hannover
END:VEVENT
BEGIN:VEVENT
DTSTAMP:20260419T162241
DTSTART;TZID=Europe/Berlin:20270129T080000
DTEND;TZID=Europe/Berlin:20270129T150000
UID:2610-016W-20270129T080000@DIAK. AKADHANNOVER
SUMMARY:Weiterbildung Praxisanleitung - interdisziplinär (2610-016W) 
LOCATION:Raum 15; EG; DIAKOVERE Akademie Gebäude Anna-von-Borries-Str. 7, Anna-von-Borries-Str. 1-7, 30625 Hannover
END:VEVENT
BEGIN:VEVENT
DTSTAMP:20260419T162241
DTSTART;TZID=Europe/Berlin:20270215T080000
DTEND;TZID=Europe/Berlin:20270215T150000
UID:2610-016W-20270215T080000@DIAK. AKADHANNOVER
SUMMARY:Weiterbildung Praxisanleitung - interdisziplinär (2610-016W) 
LOCATION:Raum 15; EG; DIAKOVERE Akademie Gebäude Anna-von-Borries-Str. 7, Anna-von-Borries-Str. 1-7, 30625 Hannover
END:VEVENT
BEGIN:VEVENT
DTSTAMP:20260419T162241
DTSTART;TZID=Europe/Berlin:20270216T080000
DTEND;TZID=Europe/Berlin:20270216T150000
UID:2610-016W-20270216T080000@DIAK. AKADHANNOVER
SUMMARY:Weiterbildung Praxisanleitung - interdisziplinär (2610-016W) 
LOCATION:Raum 15; EG; DIAKOVERE Akademie Gebäude Anna-von-Borries-Str. 7, Anna-von-Borries-Str. 1-7, 30625 Hannover
END:VEVENT
BEGIN:VEVENT
DTSTAMP:20260419T162241
DTSTART;TZID=Europe/Berlin:20270217T080000
DTEND;TZID=Europe/Berlin:20270217T150000
UID:2610-016W-20270217T080000@DIAK. AKADHANNOVER
SUMMARY:Weiterbildung Praxisanleitung - interdisziplinär (2610-016W) 
LOCATION:Raum 15; EG; DIAKOVERE Akademie Gebäude Anna-von-Borries-Str. 7, Anna-von-Borries-Str. 1-7, 30625 Hannover
END:VEVENT
BEGIN:VEVENT
DTSTAMP:20260419T162241
DTSTART;TZID=Europe/Berlin:20270218T080000
DTEND;TZID=Europe/Berlin:20270218T150000
UID:2610-016W-20270218T080000@DIAK. AKADHANNOVER
SUMMARY:Weiterbildung Praxisanleitung - interdisziplinär (2610-016W) 
LOCATION:Raum 15; EG; DIAKOVERE Akademie Gebäude Anna-von-Borries-Str. 7, Anna-von-Borries-Str. 1-7, 30625 Hannover
END:VEVENT
BEGIN:VEVENT
DTSTAMP:20260419T162241
DTSTART;TZID=Europe/Berlin:20270219T080000
DTEND;TZID=Europe/Berlin:20270219T150000
UID:2610-016W-20270219T080000@DIAK. AKADHANNOVER
SUMMARY:Weiterbildung Praxisanleitung - interdisziplinär (2610-016W) 
LOCATION:Raum 15; EG; DIAKOVERE Akademie Gebäude Anna-von-Borries-Str. 7, Anna-von-Borries-Str. 1-7, 30625 Hannover
END:VEVENT
BEGIN:VEVENT
DTSTAMP:20260419T162241
DTSTART;TZID=Europe/Berlin:20270315T080000
DTEND;TZID=Europe/Berlin:20270315T150000
UID:2610-016W-20270315T080000@DIAK. AKADHANNOVER
SUMMARY:Weiterbildung Praxisanleitung - interdisziplinär (2610-016W) 
LOCATION:Raum 02; 2. OG; DIAKOVERE Akademie Hauptgebäude, Anna-von-Borries-Str. 1-7, 30625 Hannover
END:VEVENT
BEGIN:VEVENT
DTSTAMP:20260419T162241
DTSTART;TZID=Europe/Berlin:20270316T080000
DTEND;TZID=Europe/Berlin:20270316T150000
UID:2610-016W-20270316T080000@DIAK. AKADHANNOVER
SUMMARY:Weiterbildung Praxisanleitung - interdisziplinär (2610-016W) 
LOCATION:Raum 02; 2. OG; DIAKOVERE Akademie Hauptgebäude, Anna-von-Borries-Str. 1-7, 30625 Hannover
END:VEVENT
BEGIN:VEVENT
DTSTAMP:20260419T162241
DTSTART;TZID=Europe/Berlin:20270317T080000
DTEND;TZID=Europe/Berlin:20270317T150000
UID:2610-016W-20270317T080000@DIAK. AKADHANNOVER
SUMMARY:Weiterbildung Praxisanleitung - interdisziplinär (2610-016W) 
LOCATION:Raum 02; 2. OG; DIAKOVERE Akademie Hauptgebäude, Anna-von-Borries-Str. 1-7, 30625 Hannover
END:VEVENT
BEGIN:VEVENT
DTSTAMP:20260419T162241
DTSTART;TZID=Europe/Berlin:20270405T080000
DTEND;TZID=Europe/Berlin:20270405T150000
UID:2610-016W-20270405T080000@DIAK. AKADHANNOVER
SUMMARY:Weiterbildung Praxisanleitung - interdisziplinär (2610-016W) 
LOCATION:Raum 15; EG; DIAKOVERE Akademie Gebäude Anna-von-Borries-Str. 7, Anna-von-Borries-Str. 1-7, 30625 Hannover
END:VEVENT
BEGIN:VEVENT
DTSTAMP:20260419T162241
DTSTART;TZID=Europe/Berlin:20270406T080000
DTEND;TZID=Europe/Berlin:20270406T150000
UID:2610-016W-20270406T080000@DIAK. AKADHANNOVER
SUMMARY:Weiterbildung Praxisanleitung - interdisziplinär (2610-016W) 
LOCATION:Raum 15; EG; DIAKOVERE Akademie Gebäude Anna-von-Borries-Str. 7, Anna-von-Borries-Str. 1-7, 30625 Hannover
END:VEVENT
BEGIN:VEVENT
DTSTAMP:20260419T162241
DTSTART;TZID=Europe/Berlin:20270407T080000
DTEND;TZID=Europe/Berlin:20270407T150000
UID:2610-016W-20270407T080000@DIAK. AKADHANNOVER
SUMMARY:Weiterbildung Praxisanleitung - interdisziplinär (2610-016W) 
LOCATION:Raum 15; EG; DIAKOVERE Akademie Gebäude Anna-von-Borries-Str. 7, Anna-von-Borries-Str. 1-7, 30625 Hannover
END:VEVENT
BEGIN:VEVENT
DTSTAMP:20260419T162241
DTSTART;TZID=Europe/Berlin:20270408T080000
DTEND;TZID=Europe/Berlin:20270408T150000
UID:2610-016W-20270408T080000@DIAK. AKADHANNOVER
SUMMARY:Weiterbildung Praxisanleitung - interdisziplinär (2610-016W) 
LOCATION:Raum 15; EG; DIAKOVERE Akademie Gebäude Anna-von-Borries-Str. 7, Anna-von-Borries-Str. 1-7, 30625 Hannover
END:VEVENT
BEGIN:VEVENT
DTSTAMP:20260419T162241
DTSTART;TZID=Europe/Berlin:20270409T080000
DTEND;TZID=Europe/Berlin:20270409T150000
UID:2610-016W-20270409T080000@DIAK. AKADHANNOVER
SUMMARY:Weiterbildung Praxisanleitung - interdisziplinär (2610-016W) 
LOCATION:Raum 15; EG; DIAKOVERE Akademie Gebäude Anna-von-Borries-Str. 7, Anna-von-Borries-Str. 1-7, 30625 Hannover
END:VEVENT
BEGIN:VEVENT
DTSTAMP:20260419T162241
DTSTART;TZID=Europe/Berlin:20270426T080000
DTEND;TZID=Europe/Berlin:20270426T150000
UID:2610-016W-20270426T080000@DIAK. AKADHANNOVER
SUMMARY:Weiterbildung Praxisanleitung - interdisziplinär (2610-016W) 
LOCATION:Raum 02; 2. OG; DIAKOVERE Akademie Hauptgebäude, Anna-von-Borries-Str. 1-7, 30625 Hannover
END:VEVENT
BEGIN:VEVENT
DTSTAMP:20260419T162241
DTSTART;TZID=Europe/Berlin:20270427T080000
DTEND;TZID=Europe/Berlin:20270427T150000
UID:2610-016W-20270427T080000@DIAK. AKADHANNOVER
SUMMARY:Weiterbildung Praxisanleitung - interdisziplinär (2610-016W) 
LOCATION:Raum 02; 2. OG; DIAKOVERE Akademie Hauptgebäude, Anna-von-Borries-Str. 1-7, 30625 Hannover
END:VEVENT
BEGIN:VEVENT
DTSTAMP:20260419T162241
DTSTART;TZID=Europe/Berlin:20270428T080000
DTEND;TZID=Europe/Berlin:20270428T150000
UID:2610-016W-20270428T080000@DIAK. AKADHANNOVER
SUMMARY:Weiterbildung Praxisanleitung - interdisziplinär (2610-016W) 
LOCATION:Raum 02; 2. OG; DIAKOVERE Akademie Hauptgebäude, Anna-von-Borries-Str. 1-7, 30625 Hannover
END:VEVENT
END:VCALENDAR