BEGIN:VCALENDAR
PRODID:http://www.kufer.de/kuferweb / DE
VERSION:2.0
METHOD:PUBLISH
CALSCALE:GREGORIAN
X-WR-TIMEZONE:Europe/Berlin
BEGIN:VTIMEZONE
TZID:Europe/Berlin
X-LIC-LOCATION:Europe/Berlin
BEGIN:DAYLIGHT
TZOFFSETFROM:+0100
TZOFFSETTO:+0200
TZNAME:CEST
DTSTART;TZID=Europe/Berlin:19700329T020000
RRULE:FREQ=YEARLY;INTERVAL=1;BYDAY=-1SU;BYMONTH=3
END:DAYLIGHT
BEGIN:STANDARD
TZOFFSETFROM:+0200
TZOFFSETTO:+0100
TZNAME:CET
DTSTART;TZID=Europe/Berlin:19701025T030000
RRULE:FREQ=YEARLY;INTERVAL=1;BYDAY=-1SU;BYMONTH=10
END:STANDARD
END:VTIMEZONE
BEGIN:VEVENT
DTSTAMP:20260421T231149
DTSTART;TZID=Europe/Berlin:20251103T090000
DTEND;TZID=Europe/Berlin:20251103T163000
UID:2511-002E-20251103T090000@DIAK. AKADHANNOVER
SUMMARY:Guter Unterricht?! Wie geht das? (G1 DozentIn Berufs- und Erwachsenenbildung) (2511-002E) 
LOCATION:Raum 15; EG; DIAKOVERE Akademie Gebäude Anna-von-Borries-Str. 7, Anna-von-Borries-Str. 1-7, 30625 Hannover
END:VEVENT
BEGIN:VEVENT
DTSTAMP:20260421T231149
DTSTART;TZID=Europe/Berlin:20251104T090000
DTEND;TZID=Europe/Berlin:20251104T163000
UID:2511-002E-20251104T090000@DIAK. AKADHANNOVER
SUMMARY:Guter Unterricht?! Wie geht das? (G1 DozentIn Berufs- und Erwachsenenbildung) (2511-002E) 
LOCATION:Raum 15; EG; DIAKOVERE Akademie Gebäude Anna-von-Borries-Str. 7, Anna-von-Borries-Str. 1-7, 30625 Hannover
END:VEVENT
BEGIN:VEVENT
DTSTAMP:20260421T231149
DTSTART;TZID=Europe/Berlin:20251105T090000
DTEND;TZID=Europe/Berlin:20251105T163000
UID:2511-002E-20251105T090000@DIAK. AKADHANNOVER
SUMMARY:Guter Unterricht?! Wie geht das? (G1 DozentIn Berufs- und Erwachsenenbildung) (2511-002E) 
LOCATION:Raum 15; EG; DIAKOVERE Akademie Gebäude Anna-von-Borries-Str. 7, Anna-von-Borries-Str. 1-7, 30625 Hannover
END:VEVENT
BEGIN:VEVENT
DTSTAMP:20260421T231149
DTSTART;TZID=Europe/Berlin:20251106T090000
DTEND;TZID=Europe/Berlin:20251106T163000
UID:2512-029E-20251106T090000@DIAK. AKADHANNOVER
SUMMARY:Blended Learning- Hintergründe verstehen- Methodik und Didaktik (2512-029E) 
LOCATION:Moodle, , 
END:VEVENT
BEGIN:VEVENT
DTSTAMP:20260421T231149
DTSTART;TZID=Europe/Berlin:20251209T083000
DTEND;TZID=Europe/Berlin:20251209T160000
UID:2512-028E-20251209T083000@DIAK. AKADHANNOVER
SUMMARY:Webinar: aktivierende Unterrichte planen und durchführen (2512-028E) 
LOCATION:Webinar, , 
END:VEVENT
BEGIN:VEVENT
DTSTAMP:20260421T231149
DTSTART;TZID=Europe/Berlin:20260109T090000
DTEND;TZID=Europe/Berlin:20260109T163000
UID:2512-029E-20260109T090000@DIAK. AKADHANNOVER
SUMMARY:Blended Learning- Hintergründe verstehen- Methodik und Didaktik (2512-029E) 
LOCATION:Moodle, , 
END:VEVENT
BEGIN:VEVENT
DTSTAMP:20260421T231149
DTSTART;TZID=Europe/Berlin:20260112T090000
DTEND;TZID=Europe/Berlin:20260112T163000
UID:2601-011E-20260112T090000@DIAK. AKADHANNOVER
SUMMARY:Selbstgelernt hält länger- Lernprozesse fördern und begleiten (2601-011E) 
LOCATION:Raum 16; EG; DIAKOVERE Akademie Gebäude Anna-von-Borries-Str. 7, Anna-von-Borries-Str. 1-7, 30625 Hannover
END:VEVENT
BEGIN:VEVENT
DTSTAMP:20260421T231149
DTSTART;TZID=Europe/Berlin:20260113T090000
DTEND;TZID=Europe/Berlin:20260113T163000
UID:2601-011E-20260113T090000@DIAK. AKADHANNOVER
SUMMARY:Selbstgelernt hält länger- Lernprozesse fördern und begleiten (2601-011E) 
LOCATION:Raum 16; EG; DIAKOVERE Akademie Gebäude Anna-von-Borries-Str. 7, Anna-von-Borries-Str. 1-7, 30625 Hannover
END:VEVENT
BEGIN:VEVENT
DTSTAMP:20260421T231149
DTSTART;TZID=Europe/Berlin:20260114T090000
DTEND;TZID=Europe/Berlin:20260114T163000
UID:2601-011E-20260114T090000@DIAK. AKADHANNOVER
SUMMARY:Selbstgelernt hält länger- Lernprozesse fördern und begleiten (2601-011E) 
LOCATION:Raum 16; EG; DIAKOVERE Akademie Gebäude Anna-von-Borries-Str. 7, Anna-von-Borries-Str. 1-7, 30625 Hannover
END:VEVENT
BEGIN:VEVENT
DTSTAMP:20260421T231149
DTSTART;TZID=Europe/Berlin:20260302T090000
DTEND;TZID=Europe/Berlin:20260302T163000
UID:2603-017E-20260302T090000@DIAK. AKADHANNOVER
SUMMARY:E- Learning: Unterrichtsplanung, Ziele formulieren, Materialien erstellen (2603-017E) 
LOCATION:Moodle, , 
END:VEVENT
BEGIN:VEVENT
DTSTAMP:20260421T231149
DTSTART;TZID=Europe/Berlin:20260316T090000
DTEND;TZID=Europe/Berlin:20260316T163000
UID:2603-006E-20260316T090000@DIAK. AKADHANNOVER
SUMMARY:Stimmtraining und Methodentraining für Lehrende in Gesundheits- und Sozialberufen (2603-006E) 
LOCATION:Raum 15; EG; DIAKOVERE Akademie Gebäude Anna-von-Borries-Str. 7, Anna-von-Borries-Str. 1-7, 30625 Hannover
END:VEVENT
BEGIN:VEVENT
DTSTAMP:20260421T231149
DTSTART;TZID=Europe/Berlin:20260317T090000
DTEND;TZID=Europe/Berlin:20260317T163000
UID:2603-006E-20260317T090000@DIAK. AKADHANNOVER
SUMMARY:Stimmtraining und Methodentraining für Lehrende in Gesundheits- und Sozialberufen (2603-006E) 
LOCATION:Raum 15; EG; DIAKOVERE Akademie Gebäude Anna-von-Borries-Str. 7, Anna-von-Borries-Str. 1-7, 30625 Hannover
END:VEVENT
BEGIN:VEVENT
DTSTAMP:20260421T231149
DTSTART;TZID=Europe/Berlin:20260420T090000
DTEND;TZID=Europe/Berlin:20260420T163000
UID:2603-017E-20260420T090000@DIAK. AKADHANNOVER
SUMMARY:E- Learning: Unterrichtsplanung, Ziele formulieren, Materialien erstellen (2603-017E) 
LOCATION:Moodle, , 
END:VEVENT
END:VCALENDAR