BEGIN:VCALENDAR
PRODID:http://www.kufer.de/kuferweb / DE
VERSION:2.0
METHOD:PUBLISH
CALSCALE:GREGORIAN
X-WR-TIMEZONE:Europe/Berlin
BEGIN:VTIMEZONE
TZID:Europe/Berlin
X-LIC-LOCATION:Europe/Berlin
BEGIN:DAYLIGHT
TZOFFSETFROM:+0100
TZOFFSETTO:+0200
TZNAME:CEST
DTSTART;TZID=Europe/Berlin:19700329T020000
RRULE:FREQ=YEARLY;INTERVAL=1;BYDAY=-1SU;BYMONTH=3
END:DAYLIGHT
BEGIN:STANDARD
TZOFFSETFROM:+0200
TZOFFSETTO:+0100
TZNAME:CET
DTSTART;TZID=Europe/Berlin:19701025T030000
RRULE:FREQ=YEARLY;INTERVAL=1;BYDAY=-1SU;BYMONTH=10
END:STANDARD
END:VTIMEZONE
BEGIN:VEVENT
DTSTAMP:20260423T112821
DTSTART;TZID=Europe/Berlin:20241107T090000
DTEND;TZID=Europe/Berlin:20241107T163000
UID:2411-018E-20241107T090000@DIAK. AKADHANNOVER
SUMMARY:Palliativpflege und Sterbebegleitung (2411-018E) 
LOCATION:Raum 15; EG; DIAKOVERE Akademie Gebäude Anna-von-Borries-Str. 7, Anna-von-Borries-Str. 1-7, 30625 Hannover
END:VEVENT
BEGIN:VEVENT
DTSTAMP:20260423T112821
DTSTART;TZID=Europe/Berlin:20241108T090000
DTEND;TZID=Europe/Berlin:20241108T163000
UID:2411-018E-20241108T090000@DIAK. AKADHANNOVER
SUMMARY:Palliativpflege und Sterbebegleitung (2411-018E) 
LOCATION:Raum 15; EG; DIAKOVERE Akademie Gebäude Anna-von-Borries-Str. 7, Anna-von-Borries-Str. 1-7, 30625 Hannover
END:VEVENT
END:VCALENDAR